BEGIN:VCALENDAR
VERSION:2.0
PRODID:-//time.you/holidays//NONSGML v1.0//EN
BEGIN:VEVENT
UID:443f9ee2-a94a-4901-bfb9-fa6d47d36786
DTSTAMP:20260424T215100Z
DTSTART;VALUE=DATE:20261225
SUMMARY:Christmas Day (by new style) (Moldova)
END:VEVENT
END:VCALENDAR