BEGIN:VCALENDAR
VERSION:2.0
PRODID:-//time.you/holidays//NONSGML v1.0//EN
BEGIN:VEVENT
UID:1b37b84e-4638-47f0-8fdc-932d53dc54ed
DTSTAMP:20260421T203448Z
DTSTART;VALUE=DATE:20260509
SUMMARY:Europe Day; Victory Day and Commemoration of the heroes fallen for Independence of Fatherland (Moldova)
END:VEVENT
END:VCALENDAR