BEGIN:VCALENDAR
VERSION:2.0
PRODID:-//time.you/holidays//NONSGML v1.0//EN
BEGIN:VEVENT
UID:538e3dda-126a-4296-add6-8ffcb7061901
DTSTAMP:20260423T171348Z
DTSTART;VALUE=DATE:20260831
SUMMARY:National Language Day (Moldova)
END:VEVENT
END:VCALENDAR