BEGIN:VCALENDAR
VERSION:2.0
PRODID:-//time.you/holidays//NONSGML v1.0//EN
BEGIN:VEVENT
UID:729c6a4f-c12d-43cc-9a3c-95100e549478
DTSTAMP:20260421T004537Z
DTSTART;VALUE=DATE:20260514
SUMMARY:Ascension Day (Monaco)
END:VEVENT
END:VCALENDAR