BEGIN:VCALENDAR
VERSION:2.0
PRODID:-//time.you/holidays//NONSGML v1.0//EN
BEGIN:VEVENT
UID:1f0f699b-9be9-4516-80b7-6b069bb02806
DTSTAMP:20260424T191344Z
DTSTART;VALUE=DATE:20270816
SUMMARY:Assumption Day (observed) (Monaco)
END:VEVENT
END:VCALENDAR