BEGIN:VCALENDAR
VERSION:2.0
PRODID:-//time.you/holidays//NONSGML v1.0//EN
BEGIN:VEVENT
UID:0a6c9e50-52fd-4b68-ac35-bdbf14c202c4
DTSTAMP:20260420T023731Z
DTSTART;VALUE=DATE:20260604
SUMMARY:Corpus Christi (Monaco)
END:VEVENT
END:VCALENDAR