BEGIN:VCALENDAR
VERSION:2.0
PRODID:-//time.you/holidays//NONSGML v1.0//EN
BEGIN:VEVENT
UID:3c389878-50b9-4e66-8f94-f2d6b6853309
DTSTAMP:20260420T210721Z
DTSTART;VALUE=DATE:20260406
SUMMARY:Easter Monday (Monaco)
END:VEVENT
END:VCALENDAR