BEGIN:VCALENDAR
VERSION:2.0
PRODID:-//time.you/holidays//NONSGML v1.0//EN
BEGIN:VEVENT
UID:a3d0758b-53d0-4dc1-bdd6-30d3e22edb48
DTSTAMP:20260423T225739Z
DTSTART;VALUE=DATE:20330502
SUMMARY:Labor Day (observed) (Monaco)
END:VEVENT
END:VCALENDAR