BEGIN:VCALENDAR
VERSION:2.0
PRODID:-//time.you/holidays//NONSGML v1.0//EN
BEGIN:VEVENT
UID:02833abc-8538-4f16-a3da-3ed3d8961c2f
DTSTAMP:20260420T225529Z
DTSTART;VALUE=DATE:20260501
SUMMARY:Labor Day (Monaco)
END:VEVENT
END:VCALENDAR