BEGIN:VCALENDAR
VERSION:2.0
PRODID:-//time.you/holidays//NONSGML v1.0//EN
BEGIN:VEVENT
UID:360198a0-af4f-4f2f-8ce3-2575c03e2576
DTSTAMP:20260420T012509Z
DTSTART;VALUE=DATE:20260308
SUMMARY:International Women's Day (Mongolia)
END:VEVENT
END:VCALENDAR