BEGIN:VCALENDAR
VERSION:2.0
PRODID:-//time.you/holidays//NONSGML v1.0//EN
BEGIN:VEVENT
UID:02880f08-6179-4ef3-a198-6584eb19e610
DTSTAMP:20260420T222424Z
DTSTART;VALUE=DATE:20260101
SUMMARY:New Year's Day (Mongolia)
END:VEVENT
END:VCALENDAR