BEGIN:VCALENDAR
VERSION:2.0
PRODID:-//time.you/holidays//NONSGML v1.0//EN
BEGIN:VEVENT
UID:bf0af13d-0afa-4d35-8e94-2ac6237a7071
DTSTAMP:20260420T230548Z
DTSTART;VALUE=DATE:20260531
SUMMARY:The Buddha's Birthday (Mongolia)
END:VEVENT
END:VCALENDAR