BEGIN:VCALENDAR
VERSION:2.0
PRODID:-//time.you/holidays//NONSGML v1.0//EN
BEGIN:VEVENT
UID:abbeb805-e1ce-4c71-b78a-3613d6fe3a22
DTSTAMP:20260420T203545Z
DTSTART;VALUE=DATE:20260521
SUMMARY:Independence Day (Montenegro)
END:VEVENT
END:VCALENDAR