BEGIN:VCALENDAR
VERSION:2.0
PRODID:-//time.you/holidays//NONSGML v1.0//EN
BEGIN:VEVENT
UID:9c04f9d5-ca09-4ad5-9feb-54a3f995db84
DTSTAMP:20260423T230437Z
DTSTART;VALUE=DATE:20261113
SUMMARY:Njegos Day (Montenegro)
END:VEVENT
END:VCALENDAR