BEGIN:VCALENDAR
VERSION:2.0
PRODID:-//time.you/holidays//NONSGML v1.0//EN
BEGIN:VEVENT
UID:3a6969d2-51bb-4473-8fba-89b04abf7307
DTSTAMP:20260424T051333Z
DTSTART;VALUE=DATE:20260713
SUMMARY:Statehood Day (Montenegro)
END:VEVENT
END:VCALENDAR