BEGIN:VCALENDAR
VERSION:2.0
PRODID:-//time.you/holidays//NONSGML v1.0//EN
BEGIN:VEVENT
UID:2e844244-fc0e-4ca7-8f2c-bf95d41bcdc9
DTSTAMP:20260422T053526Z
DTSTART;VALUE=DATE:20271227
SUMMARY:Christmas Day (observed) (Montserrat)
END:VEVENT
END:VCALENDAR