BEGIN:VCALENDAR
VERSION:2.0
PRODID:-//time.you/holidays//NONSGML v1.0//EN
BEGIN:VEVENT
UID:352471e6-5227-4e40-893c-27fc0e827224
DTSTAMP:20260420T013910Z
DTSTART;VALUE=DATE:20261225
SUMMARY:Christmas Day (Montserrat)
END:VEVENT
END:VCALENDAR