BEGIN:VCALENDAR
VERSION:2.0
PRODID:-//time.you/holidays//NONSGML v1.0//EN
BEGIN:VEVENT
UID:19b76d68-0411-4b5d-9ac9-3e1c4c9d27bc
DTSTAMP:20260421T224146Z
DTSTART;VALUE=DATE:20230506
SUMMARY:Coronation of King Charles III (Montserrat)
END:VEVENT
END:VCALENDAR