BEGIN:VCALENDAR
VERSION:2.0
PRODID:-//time.you/holidays//NONSGML v1.0//EN
BEGIN:VEVENT
UID:2814f119-af47-4c59-b46c-95554fb7a91f
DTSTAMP:20260422T074112Z
DTSTART;VALUE=DATE:20260708
SUMMARY:Day of Prayer and Thanksgiving (Montserrat)
END:VEVENT
END:VCALENDAR