BEGIN:VCALENDAR
VERSION:2.0
PRODID:-//time.you/holidays//NONSGML v1.0//EN
BEGIN:VEVENT
UID:b1fa35c7-2d76-463c-9553-d95570723450
DTSTAMP:20260420T205131Z
DTSTART;VALUE=DATE:20260406
SUMMARY:Easter Monday (Montserrat)
END:VEVENT
END:VCALENDAR