BEGIN:VCALENDAR
VERSION:2.0
PRODID:-//time.you/holidays//NONSGML v1.0//EN
BEGIN:VEVENT
UID:d06cd70f-3c04-4e85-8ef4-bc27b3ddfff8
DTSTAMP:20260420T230520Z
DTSTART;VALUE=DATE:20260803
SUMMARY:Emancipation Day (Montserrat)
END:VEVENT
END:VCALENDAR