BEGIN:VCALENDAR
VERSION:2.0
PRODID:-//time.you/holidays//NONSGML v1.0//EN
BEGIN:VEVENT
UID:b1ced161-e108-4554-86cf-30d6ecf116a3
DTSTAMP:20260421T134228Z
DTSTART;VALUE=DATE:20340102
SUMMARY:Festival Day (observed) (Montserrat)
END:VEVENT
END:VCALENDAR