BEGIN:VCALENDAR
VERSION:2.0
PRODID:-//time.you/holidays//NONSGML v1.0//EN
BEGIN:VEVENT
UID:c37ee9e1-a233-4e43-bfba-a5f634fd0d94
DTSTAMP:20260421T011451Z
DTSTART;VALUE=DATE:20260504
SUMMARY:Labor Day (Montserrat)
END:VEVENT
END:VCALENDAR