BEGIN:VCALENDAR
VERSION:2.0
PRODID:-//time.you/holidays//NONSGML v1.0//EN
BEGIN:VEVENT
UID:c2402f5d-0091-43df-bb2c-b9d44242484f
DTSTAMP:20260421T131336Z
DTSTART;VALUE=DATE:20280103
SUMMARY:New Year's Day (observed) (Montserrat)
END:VEVENT
END:VCALENDAR