BEGIN:VCALENDAR
VERSION:2.0
PRODID:-//time.you/holidays//NONSGML v1.0//EN
BEGIN:VEVENT
UID:02c1d564-2715-4da6-a7aa-926b7006f54b
DTSTAMP:20260424T143843Z
DTSTART;VALUE=DATE:20260101
SUMMARY:New Year's Day (Montserrat)
END:VEVENT
END:VCALENDAR