BEGIN:VCALENDAR
VERSION:2.0
PRODID:-//time.you/holidays//NONSGML v1.0//EN
BEGIN:VEVENT
UID:bd32c720-7789-4d3d-bd95-19a5c0196868
DTSTAMP:20260422T041400Z
DTSTART;VALUE=DATE:20220603
SUMMARY:Platinum Jubilee of Elizabeth II (Montserrat)
END:VEVENT
END:VCALENDAR