BEGIN:VCALENDAR
VERSION:2.0
PRODID:-//time.you/holidays//NONSGML v1.0//EN
BEGIN:VEVENT
UID:3016bb28-eca9-48c7-a22b-82d38779c94a
DTSTAMP:20260419T180822Z
DTSTART;VALUE=DATE:20260317
SUMMARY:Saint Patrick's Day (Montserrat)
END:VEVENT
END:VCALENDAR