BEGIN:VCALENDAR
VERSION:2.0
PRODID:-//time.you/holidays//NONSGML v1.0//EN
BEGIN:VEVENT
UID:939123c0-a1b0-40d6-a9f2-fb9c8a049f1d
DTSTAMP:20260421T142917Z
DTSTART;VALUE=DATE:20230412
SUMMARY:Special Public Holiday (Montserrat)
END:VEVENT
END:VCALENDAR