BEGIN:VCALENDAR
VERSION:2.0
PRODID:-//time.you/holidays//NONSGML v1.0//EN
BEGIN:VEVENT
UID:80599c26-3f45-4093-9c27-b2b44a663877
DTSTAMP:20260420T115548Z
DTSTART;VALUE=DATE:20260525
SUMMARY:Whit Monday (Montserrat)
END:VEVENT
END:VCALENDAR