BEGIN:VCALENDAR
VERSION:2.0
PRODID:-//time.you/holidays//NONSGML v1.0//EN
BEGIN:VEVENT
UID:4d133076-a4f2-4dcb-8f11-8ba0c1ca78f3
DTSTAMP:20260420T124909Z
DTSTART;VALUE=DATE:20260320
SUMMARY:Eid al-Fitr (estimated) (Morocco)
END:VEVENT
END:VCALENDAR