BEGIN:VCALENDAR
VERSION:2.0
PRODID:-//time.you/holidays//NONSGML v1.0//EN
BEGIN:VEVENT
UID:b1bb5de7-9a68-4bba-a3d9-331f215db206
DTSTAMP:20260421T143942Z
DTSTART;VALUE=DATE:20220730
SUMMARY:Islamic New Year (estimated); Throne Day (Morocco)
END:VEVENT
END:VCALENDAR