BEGIN:VCALENDAR
VERSION:2.0
PRODID:-//time.you/holidays//NONSGML v1.0//EN
BEGIN:VEVENT
UID:199a46ea-2f1c-4fc9-a12c-4ca06aa6581d
DTSTAMP:20260420T024637Z
DTSTART;VALUE=DATE:20260616
SUMMARY:Islamic New Year (estimated) (Morocco)
END:VEVENT
END:VCALENDAR