BEGIN:VCALENDAR
VERSION:2.0
PRODID:-//time.you/holidays//NONSGML v1.0//EN
BEGIN:VEVENT
UID:b007d058-b9d8-4185-bbec-36faebbe414e
DTSTAMP:20260420T230150Z
DTSTART;VALUE=DATE:20260501
SUMMARY:Labor Day (Morocco)
END:VEVENT
END:VCALENDAR