BEGIN:VCALENDAR
VERSION:2.0
PRODID:-//time.you/holidays//NONSGML v1.0//EN
BEGIN:VEVENT
UID:33f9812b-ec16-4468-87da-f87c29ee8bd3
DTSTAMP:20260419T234152Z
DTSTART;VALUE=DATE:20260101
SUMMARY:New Year's Day (Morocco)
END:VEVENT
END:VCALENDAR