BEGIN:VCALENDAR
VERSION:2.0
PRODID:-//time.you/holidays//NONSGML v1.0//EN
BEGIN:VEVENT
UID:f97bc762-7363-4851-888b-ae7ba14924f2
DTSTAMP:20260420T210800Z
DTSTART;VALUE=DATE:20260730
SUMMARY:Throne Day (Morocco)
END:VEVENT
END:VCALENDAR