BEGIN:VCALENDAR
VERSION:2.0
PRODID:-//time.you/holidays//NONSGML v1.0//EN
BEGIN:VEVENT
UID:72bce9fc-1d25-4bf1-bcd9-d57505353024
DTSTAMP:20260420T080814Z
DTSTART;VALUE=DATE:20331226
SUMMARY:Family Day (observed) (Mozambique)
END:VEVENT
END:VCALENDAR