BEGIN:VCALENDAR
VERSION:2.0
PRODID:-//time.you/holidays//NONSGML v1.0//EN
BEGIN:VEVENT
UID:b4fb800a-77b7-4c33-9df6-371b7890fd2a
DTSTAMP:20260420T165119Z
DTSTART;VALUE=DATE:20260101
SUMMARY:International Fraternalism Day (Mozambique)
END:VEVENT
END:VCALENDAR