BEGIN:VCALENDAR
VERSION:2.0
PRODID:-//time.you/holidays//NONSGML v1.0//EN
BEGIN:VEVENT
UID:e65fbc2e-0d14-424c-8350-1379741f799f
DTSTAMP:20260420T062436Z
DTSTART;VALUE=DATE:20260501
SUMMARY:International Workers' Day (Mozambique)
END:VEVENT
END:VCALENDAR