BEGIN:VCALENDAR
VERSION:2.0
PRODID:-//time.you/holidays//NONSGML v1.0//EN
BEGIN:VEVENT
UID:20a0a561-5e00-4a47-9ee9-f2208ca9ad6c
DTSTAMP:20260420T071832Z
DTSTART;VALUE=DATE:20261005
SUMMARY:Peace and Reconciliation Day (observed) (Mozambique)
END:VEVENT
END:VCALENDAR