BEGIN:VCALENDAR
VERSION:2.0
PRODID:-//time.you/holidays//NONSGML v1.0//EN
BEGIN:VEVENT
UID:5fca9a88-e4b8-46a4-8ec3-8c0036429173
DTSTAMP:20260421T144037Z
DTSTART;VALUE=DATE:20261004
SUMMARY:Peace and Reconciliation Day (Mozambique)
END:VEVENT
END:VCALENDAR