BEGIN:VCALENDAR
VERSION:2.0
PRODID:-//time.you/holidays//NONSGML v1.0//EN
BEGIN:VEVENT
UID:2904c00d-cf10-4ced-be8e-14369eafecd5
DTSTAMP:20260421T205441Z
DTSTART;VALUE=DATE:20300408
SUMMARY:Women's Day (observed) (Mozambique)
END:VEVENT
END:VCALENDAR