BEGIN:VCALENDAR
VERSION:2.0
PRODID:-//time.you/holidays//NONSGML v1.0//EN
BEGIN:VEVENT
UID:a4136b7e-021e-4327-8f15-868c72ac4290
DTSTAMP:20260421T185057Z
DTSTART;VALUE=DATE:20260407
SUMMARY:Women's Day (Mozambique)
END:VEVENT
END:VCALENDAR