BEGIN:VCALENDAR
VERSION:2.0
PRODID:-//time.you/holidays//NONSGML v1.0//EN
BEGIN:VEVENT
UID:55c934fe-b0cd-4227-a476-22551bd75aae
DTSTAMP:20260420T002136Z
DTSTART;VALUE=DATE:20261225
SUMMARY:Christmas Day (Myanmar)
END:VEVENT
END:VCALENDAR