BEGIN:VCALENDAR
VERSION:2.0
PRODID:-//time.you/holidays//NONSGML v1.0//EN
BEGIN:VEVENT
UID:bc5a5549-f5f3-4039-9f7e-4251c781702b
DTSTAMP:20260424T082718Z
DTSTART;VALUE=DATE:20241231
SUMMARY:Day off (substituted from 01/11/2025) (Myanmar)
END:VEVENT
END:VCALENDAR