BEGIN:VCALENDAR
VERSION:2.0
PRODID:-//time.you/holidays//NONSGML v1.0//EN
BEGIN:VEVENT
UID:fb1523e7-3bdb-4036-b84a-27685afc77f6
DTSTAMP:20260421T143852Z
DTSTART;VALUE=DATE:20250312
SUMMARY:Day off (substituted from 03/22/2025) (Myanmar)
END:VEVENT
END:VCALENDAR