BEGIN:VCALENDAR
VERSION:2.0
PRODID:-//time.you/holidays//NONSGML v1.0//EN
BEGIN:VEVENT
UID:4d3c2eb9-9dd6-4479-ade6-1341708ecd5b
DTSTAMP:20260420T175200Z
DTSTART;VALUE=DATE:20261110
SUMMARY:Diwali (Myanmar)
END:VEVENT
END:VCALENDAR