BEGIN:VCALENDAR
VERSION:2.0
PRODID:-//time.you/holidays//NONSGML v1.0//EN
BEGIN:VEVENT
UID:ee602a78-aa6d-41bd-b0fe-91fefc2b48b7
DTSTAMP:20260424T164326Z
DTSTART;VALUE=DATE:20260302
SUMMARY:Full Moon Day of Tabaung; Peasants' Day (Myanmar)
END:VEVENT
END:VCALENDAR