BEGIN:VCALENDAR
VERSION:2.0
PRODID:-//time.you/holidays//NONSGML v1.0//EN
BEGIN:VEVENT
UID:556fdd25-1636-441b-88b2-48dca2c38b76
DTSTAMP:20260421T235742Z
DTSTART;VALUE=DATE:20270322
SUMMARY:Full Moon Day of Tabaung (Myanmar)
END:VEVENT
END:VCALENDAR