BEGIN:VCALENDAR
VERSION:2.0
PRODID:-//time.you/holidays//NONSGML v1.0//EN
BEGIN:VEVENT
UID:c8bfbd46-c933-4241-9e1d-990c618e560b
DTSTAMP:20260422T043203Z
DTSTART;VALUE=DATE:20261124
SUMMARY:Full Moon Day of Tazaungmon (Myanmar)
END:VEVENT
END:VCALENDAR