BEGIN:VCALENDAR
VERSION:2.0
PRODID:-//time.you/holidays//NONSGML v1.0//EN
BEGIN:VEVENT
UID:151a2d67-15a6-4147-bf18-70d95ba01dd7
DTSTAMP:20260421T144121Z
DTSTART;VALUE=DATE:20260729
SUMMARY:Full Moon Day of Waso (Myanmar)
END:VEVENT
END:VCALENDAR